BEGIN:VCALENDAR
VERSION:2.0
PRODID:-//Composites Australia - ECPv6.15.17.1//NONSGML v1.0//EN
CALSCALE:GREGORIAN
METHOD:PUBLISH
X-ORIGINAL-URL:https://www.compositesaustralia.com.au
X-WR-CALDESC:Events for Composites Australia
REFRESH-INTERVAL;VALUE=DURATION:PT1H
X-Robots-Tag:noindex
X-PUBLISHED-TTL:PT1H
BEGIN:VTIMEZONE
TZID:UTC
BEGIN:STANDARD
TZOFFSETFROM:+0000
TZOFFSETTO:+0000
TZNAME:UTC
DTSTART:20240101T000000
END:STANDARD
END:VTIMEZONE
BEGIN:VEVENT
DTSTART;TZID=UTC:20251125T100000
DTEND;TZID=UTC:20251125T140000
DTSTAMP:20260421T174028
CREATED:20250923T074125Z
LAST-MODIFIED:20260407T083814Z
UID:13606-1764064800-1764079200@www.compositesaustralia.com.au
SUMMARY:TECH EVENT - Advanced Manufacturing Readiness Facility (AMRF) Tues 25 Nov.
DESCRIPTION:Composites Australia\, in partnership with Riviera Australia\, invites members and guests to an industrial site visit at Riviera’s 16.8-hectare luxury motor yacht manufacturing facility within the Coomera Marine Precinct on the Gold Coast.								\n				\n					\n				\n		\n					\n				\n				\n									Date: Wednesday\, 26 August 2026 Format: Presentations\, Q&A\, facility tour\, networking lunch. Tickets: Members free | Non-members $200 | Students: $25 Catering: Light refreshments and lunch provided.   This TECH Event provides a direct view of large-scale composite manufacturing for long-life\, high-performance marine structures. Riviera’s vertically integrated production environment brings together composite fabrication\, systems integration and interior fit-out across multiple concurrent vessel builds.REGISTER AS A MEMBER HERE ALL OTHERS REGISTER HERE CLICK THROUGH FOR THE EVENT FLYER Kyle Davison\, Director of Manufacturing\, will present an overview of Riviera’s manufacturing system\, including composite hull and superstructure production\, production planning\, quality control and the coordination of multidisciplinary trades. The session will also address Riviera’s internationalisation strategy\, with more than 6\,300 luxury motor yachts delivered globally over more than four decades. A guided facility tour will follow\, providing insight into composite hull\, deck and superstructure manufacture; integration of structural\, mechanical and onboard systems; and production sequencing across a large-scale marine manufacturing site.r fit-out across the site  Venue & Access Address: 50 Waterway Dr\, Coomera QLD 4209 – [Google Maps link] Parking: Limited free parking on-site Accessibility: Step-free access; please advise requirements at checkout Safety: Closed-toed footwear required for the tour Contact: kerryn@compositesaustralia.com.au | 0412 556 698  
URL:https://www.compositesaustralia.com.au/event/tech-event-amrf-tues-25-nov/
LOCATION:First Building\, 215 Badgerys Creek Rd\, Bradfield NSW 2556\, 215 Badgerys Creek Rd\, BRADFIELD\, New South Wales\, 2556\, Australia
CATEGORIES:Members,Non-Members
ATTACH;FMTTYPE=image/png:https://www.compositesaustralia.com.au/wp-content/uploads/2025/09/CA-AMRF_Insta_Tile_251125-LOw-Res-2.png
ORGANIZER;CN="Composites Australia Inc.":MAILTO:kerryn@compositesaustralia.com.au
END:VEVENT
END:VCALENDAR