BEGIN:VCALENDAR
VERSION:2.0
PRODID:-//Composites Australia - ECPv6.15.20//NONSGML v1.0//EN
CALSCALE:GREGORIAN
METHOD:PUBLISH
X-WR-CALNAME:Composites Australia
X-ORIGINAL-URL:https://www.compositesaustralia.com.au
X-WR-CALDESC:Events for Composites Australia
REFRESH-INTERVAL;VALUE=DURATION:PT1H
X-Robots-Tag:noindex
X-PUBLISHED-TTL:PT1H
BEGIN:VTIMEZONE
TZID:UTC
BEGIN:STANDARD
TZOFFSETFROM:+0000
TZOFFSETTO:+0000
TZNAME:UTC
DTSTART:20210101T000000
END:STANDARD
END:VTIMEZONE
BEGIN:VEVENT
DTSTART;TZID=UTC:20220601T080000
DTEND;TZID=UTC:20220602T150000
DTSTAMP:20260422T223234
CREATED:20210912T060112Z
LAST-MODIFIED:20220512T032857Z
UID:6225-1654070400-1654182000@www.compositesaustralia.com.au
SUMMARY:Composites Australia Annual Conference - 1st & 2nd June 2022
DESCRIPTION:Composites Australia & Edencraft Present:\nBEHIND THE SCENES AT EDENCRAFT HQ: AN EXCITING UPDATE!\nHosted by: Grant and Josie Maher \n\nDate: Wednesday\, 1st November 2023Time: 4:00pm – 6:30pmVenue: 22-30 Buckley Grove Moolap\, Victoria\, 3224 \n\nJoin us for an unforgettable late afternoon of insights\, innovation and networking – championing the future of marine craft construction. \nAgenda: \n\nJosie’s Presentation on the CNC Machine & Edencraft’s Evolution. \nExclusive Tour of Edencraft HQ. \nPrecision Marinecraft Discussion. \nNetworking & Refreshments\n\nDetails \n\nHear how Edencraft is championing the future of marine craft construction.\nExplore the journey of Edencraft’s leadership in ‘Marine 4.0’ composites and witness innovation in action.\nSee us unveil and\ndemonstrate this massive high-speed 5-Axis CNC fully enclosed machining centre that\nis also designed to produce complex moulds and parts for the\naerospace\, marine\, industrial\, transport\, and pool sectors. Beyond that\, it\ncan mill\, trim\, and drill finished components.Engage in discussions on the interplay of tradition and technology in marine craft construction.\n\nCost:Members: Free (limited to two attendees per company) –  Non-members: $99  \nContact: kerryn@compositesaustralia.com.au | 0412 556698. \n\nAmple parking available.\nVenue maps and further details will be shared post-confirmation.\nRefreshments served post-tour.\nKindly wear close-toed footwear for safety.\nDue to commercial sensitivities\, the organisers have the right to decline a request to attend.\n\nBOOK AT THIS LINK: https://EDENCRAFT.eventbrite.com \nDOWNLOAD FLYER AT THIS LINK 								\n				\n					\n				\n		\n					\n				\n				\n												\n																					Poseidon - Australia's largest\, high speed\, geometrically accurate 5-Axis CNC machining centre.\n										\n									\n				\n					\n				\n		\n					\n				\n				\n									Privacy statement: Composites Australia respects the privacy of your personal information. We will use the details to deliver the relevant services or information to be provided and otherwise will not share your details with third parties except where required by law. Disclaimer: The organisers have made every attempt to ensure the information is correct at time of publishing\, however\, the program and other event details are subject to change. In the event of change\, neither Composites Australia nor the presenter/host is liable for any loss or expenses incurred. Refund Policy: Cancellations/withdrawals received after 5pm AEDT 30th October 2023 will not be refunded however registrations may be transferred on request. Prior to this date a refund is applicable less a 25% administration fee.
URL:https://www.compositesaustralia.com.au/event/composites-australia-annual-conference-2/
LOCATION:Clifford Park Racecourse\, Hursley Rd\, Newtown QLD 4350\, Hursley Rd\, Newtown\, QLD\, 4350\, Australia
ATTACH;FMTTYPE=image/jpeg:https://www.compositesaustralia.com.au/wp-content/uploads/2022/05/2022-Composites-Conference-brochure-FRONT-COVER-min.jpg
ORGANIZER;CN="Composites Australia Inc.":MAILTO:kerryn@compositesaustralia.com.au
END:VEVENT
END:VCALENDAR