BEGIN:VCALENDAR
VERSION:2.0
PRODID:-//Composites Australia - ECPv6.15.17.1//NONSGML v1.0//EN
CALSCALE:GREGORIAN
METHOD:PUBLISH
X-WR-CALNAME:Composites Australia
X-ORIGINAL-URL:https://www.compositesaustralia.com.au
X-WR-CALDESC:Events for Composites Australia
REFRESH-INTERVAL;VALUE=DURATION:PT1H
X-Robots-Tag:noindex
X-PUBLISHED-TTL:PT1H
BEGIN:VTIMEZONE
TZID:UTC
BEGIN:STANDARD
TZOFFSETFROM:+0000
TZOFFSETTO:+0000
TZNAME:UTC
DTSTART:20250101T000000
END:STANDARD
END:VTIMEZONE
BEGIN:VEVENT
DTSTART;TZID=UTC:20260224T100000
DTEND;TZID=UTC:20260224T140000
DTSTAMP:20260421T162637
CREATED:20260114T023654Z
LAST-MODIFIED:20260209T234505Z
UID:14065-1771927200-1771941600@www.compositesaustralia.com.au
SUMMARY:An Exclusive Invitation to Biesse - a global specialist in machinery and integrated solutions for processing materials
DESCRIPTION:Composites Australia\, in partnership with Riviera Australia\, invites members and guests to an industrial site visit at Riviera’s 16.8-hectare luxury motor yacht manufacturing facility within the Coomera Marine Precinct on the Gold Coast.								\n				\n					\n				\n		\n					\n				\n				\n									Date: Wednesday\, 26 August 2026 Format: Presentations\, Q&A\, facility tour\, networking lunch. Tickets: Members free | Non-members $200 | Students: $25 Catering: Light refreshments and lunch provided.   This TECH Event provides a direct view of large-scale composite manufacturing for long-life\, high-performance marine structures. Riviera’s vertically integrated production environment brings together composite fabrication\, systems integration and interior fit-out across multiple concurrent vessel builds.REGISTER AS A MEMBER HERE ALL OTHERS REGISTER HERE CLICK THROUGH FOR THE EVENT FLYER Kyle Davison\, Director of Manufacturing\, will present an overview of Riviera’s manufacturing system\, including composite hull and superstructure production\, production planning\, quality control and the coordination of multidisciplinary trades. The session will also address Riviera’s internationalisation strategy\, with more than 6\,300 luxury motor yachts delivered globally over more than four decades. A guided facility tour will follow\, providing insight into composite hull\, deck and superstructure manufacture; integration of structural\, mechanical and onboard systems; and production sequencing across a large-scale marine manufacturing site.r fit-out across the site  Venue & Access Address: 50 Waterway Dr\, Coomera QLD 4209 – [Google Maps link] Parking: Limited free parking on-site Accessibility: Step-free access; please advise requirements at checkout Safety: Closed-toed footwear required for the tour Contact: kerryn@compositesaustralia.com.au | 0412 556 698  
URL:https://www.compositesaustralia.com.au/event/an-exclusive-invitation-to-biesse/
LOCATION:QLD
CATEGORIES:Members,Non-Members
ATTACH;FMTTYPE=image/jpeg:https://www.compositesaustralia.com.au/wp-content/uploads/2026/01/Biesse_Hero-_Slider_240226-Low-res.jpg
END:VEVENT
BEGIN:VEVENT
DTSTART;VALUE=DATE:20260617
DTEND;VALUE=DATE:20260619
DTSTAMP:20260421T162638
CREATED:20260206T051936Z
LAST-MODIFIED:20260206T054046Z
UID:14214-1781654400-1781827199@www.compositesaustralia.com.au
SUMMARY:2026 Composites Australia Conference
DESCRIPTION:Composites Australia\, in partnership with Riviera Australia\, invites members and guests to an industrial site visit at Riviera’s 16.8-hectare luxury motor yacht manufacturing facility within the Coomera Marine Precinct on the Gold Coast.								\n				\n					\n				\n		\n					\n				\n				\n									Date: Wednesday\, 26 August 2026 Format: Presentations\, Q&A\, facility tour\, networking lunch. Tickets: Members free | Non-members $200 | Students: $25 Catering: Light refreshments and lunch provided.   This TECH Event provides a direct view of large-scale composite manufacturing for long-life\, high-performance marine structures. Riviera’s vertically integrated production environment brings together composite fabrication\, systems integration and interior fit-out across multiple concurrent vessel builds.REGISTER AS A MEMBER HERE ALL OTHERS REGISTER HERE CLICK THROUGH FOR THE EVENT FLYER Kyle Davison\, Director of Manufacturing\, will present an overview of Riviera’s manufacturing system\, including composite hull and superstructure production\, production planning\, quality control and the coordination of multidisciplinary trades. The session will also address Riviera’s internationalisation strategy\, with more than 6\,300 luxury motor yachts delivered globally over more than four decades. A guided facility tour will follow\, providing insight into composite hull\, deck and superstructure manufacture; integration of structural\, mechanical and onboard systems; and production sequencing across a large-scale marine manufacturing site.r fit-out across the site  Venue & Access Address: 50 Waterway Dr\, Coomera QLD 4209 – [Google Maps link] Parking: Limited free parking on-site Accessibility: Step-free access; please advise requirements at checkout Safety: Closed-toed footwear required for the tour Contact: kerryn@compositesaustralia.com.au | 0412 556 698  
URL:https://www.compositesaustralia.com.au/event/2026-composites-australia-conference/
LOCATION:The Novotel Geelong\, 10/14 Eastern Beach Road\, Geelong\, Victoria\, Australia
ATTACH;FMTTYPE=image/jpeg:https://www.compositesaustralia.com.au/wp-content/uploads/2026/02/26-Conference-slider-LR-4.jpg
ORGANIZER;CN="Composites Australia Inc.":MAILTO:kerryn@compositesaustralia.com.au
END:VEVENT
BEGIN:VEVENT
DTSTART;TZID=UTC:20260617T063000
DTEND;TZID=UTC:20260617T223000
DTSTAMP:20260421T162638
CREATED:20260209T100549Z
LAST-MODIFIED:20260209T103108Z
UID:14243-1781677800-1781735400@www.compositesaustralia.com.au
SUMMARY:2026 Composites Australia Annual Industry Awards
DESCRIPTION:Composites Australia\, in partnership with Riviera Australia\, invites members and guests to an industrial site visit at Riviera’s 16.8-hectare luxury motor yacht manufacturing facility within the Coomera Marine Precinct on the Gold Coast.								\n				\n					\n				\n		\n					\n				\n				\n									Date: Wednesday\, 26 August 2026 Format: Presentations\, Q&A\, facility tour\, networking lunch. Tickets: Members free | Non-members $200 | Students: $25 Catering: Light refreshments and lunch provided.   This TECH Event provides a direct view of large-scale composite manufacturing for long-life\, high-performance marine structures. Riviera’s vertically integrated production environment brings together composite fabrication\, systems integration and interior fit-out across multiple concurrent vessel builds.REGISTER AS A MEMBER HERE ALL OTHERS REGISTER HERE CLICK THROUGH FOR THE EVENT FLYER Kyle Davison\, Director of Manufacturing\, will present an overview of Riviera’s manufacturing system\, including composite hull and superstructure production\, production planning\, quality control and the coordination of multidisciplinary trades. The session will also address Riviera’s internationalisation strategy\, with more than 6\,300 luxury motor yachts delivered globally over more than four decades. A guided facility tour will follow\, providing insight into composite hull\, deck and superstructure manufacture; integration of structural\, mechanical and onboard systems; and production sequencing across a large-scale marine manufacturing site.r fit-out across the site  Venue & Access Address: 50 Waterway Dr\, Coomera QLD 4209 – [Google Maps link] Parking: Limited free parking on-site Accessibility: Step-free access; please advise requirements at checkout Safety: Closed-toed footwear required for the tour Contact: kerryn@compositesaustralia.com.au | 0412 556 698  
URL:https://www.compositesaustralia.com.au/event/2026-composites-australia-annual-industry-awards/
LOCATION:The Novotel Geelong\, 10/14 Eastern Beach Road\, Geelong\, Victoria\, Australia
ATTACH;FMTTYPE=image/jpeg:https://www.compositesaustralia.com.au/wp-content/uploads/2026/02/2026-Conference-Awards-Dinner.jpg
END:VEVENT
BEGIN:VEVENT
DTSTART;TZID=UTC:20260722T103000
DTEND;TZID=UTC:20260722T140000
DTSTAMP:20260421T162638
CREATED:20260216T062039Z
LAST-MODIFIED:20260419T100442Z
UID:14265-1784716200-1784728800@www.compositesaustralia.com.au
SUMMARY:TECH Event - Summertime Pools (VIC)
DESCRIPTION:Composites Australia\, in partnership with Riviera Australia\, invites members and guests to an industrial site visit at Riviera’s 16.8-hectare luxury motor yacht manufacturing facility within the Coomera Marine Precinct on the Gold Coast.								\n				\n					\n				\n		\n					\n				\n				\n									Date: Wednesday\, 26 August 2026 Format: Presentations\, Q&A\, facility tour\, networking lunch. Tickets: Members free | Non-members $200 | Students: $25 Catering: Light refreshments and lunch provided.   This TECH Event provides a direct view of large-scale composite manufacturing for long-life\, high-performance marine structures. Riviera’s vertically integrated production environment brings together composite fabrication\, systems integration and interior fit-out across multiple concurrent vessel builds.REGISTER AS A MEMBER HERE ALL OTHERS REGISTER HERE CLICK THROUGH FOR THE EVENT FLYER Kyle Davison\, Director of Manufacturing\, will present an overview of Riviera’s manufacturing system\, including composite hull and superstructure production\, production planning\, quality control and the coordination of multidisciplinary trades. The session will also address Riviera’s internationalisation strategy\, with more than 6\,300 luxury motor yachts delivered globally over more than four decades. A guided facility tour will follow\, providing insight into composite hull\, deck and superstructure manufacture; integration of structural\, mechanical and onboard systems; and production sequencing across a large-scale marine manufacturing site.r fit-out across the site  Venue & Access Address: 50 Waterway Dr\, Coomera QLD 4209 – [Google Maps link] Parking: Limited free parking on-site Accessibility: Step-free access; please advise requirements at checkout Safety: Closed-toed footwear required for the tour Contact: kerryn@compositesaustralia.com.au | 0412 556 698  
URL:https://www.compositesaustralia.com.au/event/tech-event-summertime-pools-vic/
LOCATION:Summetime Pools 1/2 Healey Road\, Dandenong South VIC 3175\, 1/2 Healey Road\, Dandenong South\, VIC\, 3175\, Australia
CATEGORIES:Members,Non-Members
ATTACH;FMTTYPE=image/png:https://www.compositesaustralia.com.au/wp-content/uploads/2026/02/Summertime_Hero-_Slider_220726_v2.png
END:VEVENT
BEGIN:VEVENT
DTSTART;TZID=UTC:20260826T103000
DTEND;TZID=UTC:20260826T140000
DTSTAMP:20260421T162638
CREATED:20260419T073644Z
LAST-MODIFIED:20260419T082615Z
UID:14357-1787740200-1787752800@www.compositesaustralia.com.au
SUMMARY:TECH Event - Riviera Australia (QLD)
DESCRIPTION:Composites Australia\, in partnership with Riviera Australia\, invites members and guests to an industrial site visit at Riviera’s 16.8-hectare luxury motor yacht manufacturing facility within the Coomera Marine Precinct on the Gold Coast.								\n				\n					\n				\n		\n					\n				\n				\n									Date: Wednesday\, 26 August 2026 Format: Presentations\, Q&A\, facility tour\, networking lunch. Tickets: Members free | Non-members $200 | Students: $25 Catering: Light refreshments and lunch provided.   This TECH Event provides a direct view of large-scale composite manufacturing for long-life\, high-performance marine structures. Riviera’s vertically integrated production environment brings together composite fabrication\, systems integration and interior fit-out across multiple concurrent vessel builds.REGISTER AS A MEMBER HERE ALL OTHERS REGISTER HERE CLICK THROUGH FOR THE EVENT FLYER Kyle Davison\, Director of Manufacturing\, will present an overview of Riviera’s manufacturing system\, including composite hull and superstructure production\, production planning\, quality control and the coordination of multidisciplinary trades. The session will also address Riviera’s internationalisation strategy\, with more than 6\,300 luxury motor yachts delivered globally over more than four decades. A guided facility tour will follow\, providing insight into composite hull\, deck and superstructure manufacture; integration of structural\, mechanical and onboard systems; and production sequencing across a large-scale marine manufacturing site.r fit-out across the site  Venue & Access Address: 50 Waterway Dr\, Coomera QLD 4209 – [Google Maps link] Parking: Limited free parking on-site Accessibility: Step-free access; please advise requirements at checkout Safety: Closed-toed footwear required for the tour Contact: kerryn@compositesaustralia.com.au | 0412 556 698  
URL:https://www.compositesaustralia.com.au/event/tech-event-riviera-australia-qld/
LOCATION:Riviera Australia\, 50 Waterway Drive\, COOMERA\, QLD\, 4209\, Australia
CATEGORIES:Members,Non-Members
ATTACH;FMTTYPE=image/png:https://www.compositesaustralia.com.au/wp-content/uploads/2026/04/Riviera_Hero_Slider_260826.png
ORGANIZER;CN="Composites Australia Inc.":MAILTO:kerryn@compositesaustralia.com.au
END:VEVENT
END:VCALENDAR