BEGIN:VCALENDAR
VERSION:2.0
PRODID:-//Composites Australia - ECPv6.15.20//NONSGML v1.0//EN
CALSCALE:GREGORIAN
METHOD:PUBLISH
X-WR-CALNAME:Composites Australia
X-ORIGINAL-URL:https://www.compositesaustralia.com.au
X-WR-CALDESC:Events for Composites Australia
REFRESH-INTERVAL;VALUE=DURATION:PT1H
X-Robots-Tag:noindex
X-PUBLISHED-TTL:PT1H
BEGIN:VTIMEZONE
TZID:Europe/Paris
BEGIN:DAYLIGHT
TZOFFSETFROM:+0100
TZOFFSETTO:+0200
TZNAME:CEST
DTSTART:20230326T010000
END:DAYLIGHT
BEGIN:STANDARD
TZOFFSETFROM:+0200
TZOFFSETTO:+0100
TZNAME:CET
DTSTART:20231029T010000
END:STANDARD
BEGIN:DAYLIGHT
TZOFFSETFROM:+0100
TZOFFSETTO:+0200
TZNAME:CEST
DTSTART:20240331T010000
END:DAYLIGHT
BEGIN:STANDARD
TZOFFSETFROM:+0200
TZOFFSETTO:+0100
TZNAME:CET
DTSTART:20241027T010000
END:STANDARD
BEGIN:DAYLIGHT
TZOFFSETFROM:+0100
TZOFFSETTO:+0200
TZNAME:CEST
DTSTART:20250330T010000
END:DAYLIGHT
BEGIN:STANDARD
TZOFFSETFROM:+0200
TZOFFSETTO:+0100
TZNAME:CET
DTSTART:20251026T010000
END:STANDARD
END:VTIMEZONE
BEGIN:VEVENT
DTSTART;TZID=Europe/Paris:20240828T133000
DTEND;TZID=Europe/Paris:20240828T160000
DTSTAMP:20260422T140603
CREATED:20240527T110705Z
LAST-MODIFIED:20240826T013019Z
UID:11306-1724851800-1724860800@www.compositesaustralia.com.au
SUMMARY:EVENT - Celebrating 70 Years of Manufacturing with Colan Australia (NSW 28 Aug)
DESCRIPTION:Composites Australia\, in partnership with Riviera Australia\, invites members and guests to an industrial site visit at Riviera’s 16.8-hectare luxury motor yacht manufacturing facility within the Coomera Marine Precinct on the Gold Coast.								\n				\n					\n				\n		\n					\n				\n				\n									Date: Wednesday\, 26 August 2026 Format: Presentations\, Q&A\, facility tour\, networking lunch. Tickets: Members free | Non-members $200 | Students: $25 Catering: Light refreshments and lunch provided.   This TECH Event provides a direct view of large-scale composite manufacturing for long-life\, high-performance marine structures. Riviera’s vertically integrated production environment brings together composite fabrication\, systems integration and interior fit-out across multiple concurrent vessel builds.REGISTER AS A MEMBER HERE ALL OTHERS REGISTER HERE CLICK THROUGH FOR THE EVENT FLYER Kyle Davison\, Director of Manufacturing\, will present an overview of Riviera’s manufacturing system\, including composite hull and superstructure production\, production planning\, quality control and the coordination of multidisciplinary trades. The session will also address Riviera’s internationalisation strategy\, with more than 6\,300 luxury motor yachts delivered globally over more than four decades. A guided facility tour will follow\, providing insight into composite hull\, deck and superstructure manufacture; integration of structural\, mechanical and onboard systems; and production sequencing across a large-scale marine manufacturing site.r fit-out across the site  Venue & Access Address: 50 Waterway Dr\, Coomera QLD 4209 – [Google Maps link] Parking: Limited free parking on-site Accessibility: Step-free access; please advise requirements at checkout Safety: Closed-toed footwear required for the tour Contact: kerryn@compositesaustralia.com.au | 0412 556 698  
URL:https://www.compositesaustralia.com.au/event/event-celebrating-70-years-of-manufacturing-with-colan-australia/
LOCATION:Colan Australia\, 6 Woods Close\, Huntingwood\, NSW\, 2148\, Australia
CATEGORIES:Members,Non-Members
ATTACH;FMTTYPE=image/jpeg:https://www.compositesaustralia.com.au/wp-content/uploads/2024/05/Colan_Flyer_280824_v2-Copy_page-0001-Copy.jpg
ORGANIZER;CN="Composites Australia Inc.":MAILTO:kerryn@compositesaustralia.com.au
END:VEVENT
END:VCALENDAR